BEGIN:VCALENDAR
VERSION:2.0
PRODID:-//Heart of England Cycling Club - ECPv6.15.20//NONSGML v1.0//EN
CALSCALE:GREGORIAN
METHOD:PUBLISH
X-WR-CALNAME:Heart of England Cycling Club
X-ORIGINAL-URL:https://heartofenglandcyclingclub.co.uk
X-WR-CALDESC:Events for Heart of England Cycling Club
REFRESH-INTERVAL;VALUE=DURATION:PT1H
X-Robots-Tag:noindex
X-PUBLISHED-TTL:PT1H
BEGIN:VTIMEZONE
TZID:UTC
BEGIN:STANDARD
TZOFFSETFROM:+0000
TZOFFSETTO:+0000
TZNAME:UTC
DTSTART:20250101T000000
END:STANDARD
END:VTIMEZONE
BEGIN:VEVENT
DTSTART;TZID=UTC:20260503T123000
DTEND;TZID=UTC:20260503T140000
DTSTAMP:20260422T101559
CREATED:20260209T211017Z
LAST-MODIFIED:20260209T211017Z
UID:4197-1777811400-1777816800@heartofenglandcyclingclub.co.uk
SUMMARY:Sunday Lunchtime Meet Up - Henley -In-Arden
DESCRIPTION:Ride from home and meet up with others for lunch\, possibly cycle back together.
URL:https://heartofenglandcyclingclub.co.uk/event/sunday-lunchtime-meet-up-henley-in-arden/
LOCATION:Your Home\, United Kingdom
CATEGORIES:Sunday All Day Ride
END:VEVENT
BEGIN:VEVENT
DTSTART;TZID=UTC:20260506T093000
DTEND;TZID=UTC:20260506T170000
DTSTAMP:20260422T101559
CREATED:20260404T184539Z
LAST-MODIFIED:20260404T184539Z
UID:4357-1778059800-1778086800@heartofenglandcyclingclub.co.uk
SUMMARY:Further & Faster -???- (Andy Curley)
DESCRIPTION:Details to follow…
URL:https://heartofenglandcyclingclub.co.uk/event/further-faster-andy-curley-16/
LOCATION:Red Lion – Earlswood\, The Red Lion Earlswood\, Solihull\, B94 6AQ\, United Kingdom
CATEGORIES:Further & Faster Ride
END:VEVENT
BEGIN:VEVENT
DTSTART;TZID=UTC:20260513T093000
DTEND;TZID=UTC:20260513T170000
DTSTAMP:20260422T101559
CREATED:20260404T184539Z
LAST-MODIFIED:20260404T184539Z
UID:4358-1778664600-1778691600@heartofenglandcyclingclub.co.uk
SUMMARY:Further & Faster -???- (Ed Mathews)
DESCRIPTION:Details to follow…
URL:https://heartofenglandcyclingclub.co.uk/event/further-faster-ed-mathews-18/
LOCATION:Red Lion – Earlswood\, The Red Lion Earlswood\, Solihull\, B94 6AQ\, United Kingdom
CATEGORIES:Further & Faster Ride
END:VEVENT
BEGIN:VEVENT
DTSTART;TZID=UTC:20260517T123000
DTEND;TZID=UTC:20260517T140000
DTSTAMP:20260422T101559
CREATED:20260209T211019Z
LAST-MODIFIED:20260209T211019Z
UID:4198-1779021000-1779026400@heartofenglandcyclingclub.co.uk
SUMMARY:Sunday Lunchtime Meet Up - Feckenham
DESCRIPTION:Ride from home and meet up with others for lunch\, possibly cycle back together.
URL:https://heartofenglandcyclingclub.co.uk/event/sunday-lunchtime-meet-up-feckenham/
LOCATION:Your Home\, United Kingdom
CATEGORIES:Sunday All Day Ride
END:VEVENT
BEGIN:VEVENT
DTSTART;TZID=UTC:20260520T093000
DTEND;TZID=UTC:20260520T170000
DTSTAMP:20260422T101559
CREATED:20260404T184539Z
LAST-MODIFIED:20260404T184539Z
UID:4359-1779269400-1779296400@heartofenglandcyclingclub.co.uk
SUMMARY:Further & Faster -???- (Jon Porteous)
DESCRIPTION:Details to follow…
URL:https://heartofenglandcyclingclub.co.uk/event/further-faster-jon-porteous-22/
LOCATION:Red Lion – Earlswood\, The Red Lion Earlswood\, Solihull\, B94 6AQ\, United Kingdom
CATEGORIES:Further & Faster Ride
END:VEVENT
BEGIN:VEVENT
DTSTART;TZID=UTC:20260527T093000
DTEND;TZID=UTC:20260527T170000
DTSTAMP:20260422T101559
CREATED:20260404T184540Z
LAST-MODIFIED:20260404T184540Z
UID:4360-1779874200-1779901200@heartofenglandcyclingclub.co.uk
SUMMARY:Further & Faster -???- (Lawrence Cox)
DESCRIPTION:Details to follow…
URL:https://heartofenglandcyclingclub.co.uk/event/further-faster-lawrence-cox-7/
LOCATION:Red Lion – Earlswood\, The Red Lion Earlswood\, Solihull\, B94 6AQ\, United Kingdom
CATEGORIES:Further & Faster Ride
END:VEVENT
BEGIN:VEVENT
DTSTART;TZID=UTC:20260531T123000
DTEND;TZID=UTC:20260531T140000
DTSTAMP:20260422T101559
CREATED:20260209T211020Z
LAST-MODIFIED:20260209T211020Z
UID:4199-1780230600-1780236000@heartofenglandcyclingclub.co.uk
SUMMARY:Sunday Lunchtime Meet Up - Shustoke
DESCRIPTION:Ride from home and meet up with others for lunch\, possibly cycle back together.
URL:https://heartofenglandcyclingclub.co.uk/event/sunday-lunchtime-meet-up-shustoke/
LOCATION:Your Home\, United Kingdom
CATEGORIES:Sunday All Day Ride
END:VEVENT
END:VCALENDAR