BEGIN:VCALENDAR
VERSION:2.0
PRODID:-//Heart of England Cycling Club - ECPv6.15.20//NONSGML v1.0//EN
CALSCALE:GREGORIAN
METHOD:PUBLISH
X-WR-CALNAME:Heart of England Cycling Club
X-ORIGINAL-URL:https://heartofenglandcyclingclub.co.uk
X-WR-CALDESC:Events for Heart of England Cycling Club
REFRESH-INTERVAL;VALUE=DURATION:PT1H
X-Robots-Tag:noindex
X-PUBLISHED-TTL:PT1H
BEGIN:VTIMEZONE
TZID:UTC
BEGIN:STANDARD
TZOFFSETFROM:+0000
TZOFFSETTO:+0000
TZNAME:UTC
DTSTART:20250101T000000
END:STANDARD
END:VTIMEZONE
BEGIN:VEVENT
DTSTART;TZID=UTC:20260617T100000
DTEND;TZID=UTC:20260617T163000
DTSTAMP:20260421T145920
CREATED:20251228T203557Z
LAST-MODIFIED:20260415T191520Z
UID:4068-1781690400-1781713800@heartofenglandcyclingclub.co.uk
SUMMARY:Wednesday Ride-NE-???-[Linda Whitehead]
DESCRIPTION:Details to follow \nDownload \n 
URL:https://heartofenglandcyclingclub.co.uk/event/wednesday-ride-nw-tony-stonehewer/
LOCATION:Red Lion – Earlswood\, The Red Lion Earlswood\, Solihull\, B94 6AQ\, United Kingdom
CATEGORIES:Wednesday Ride
END:VEVENT
BEGIN:VEVENT
DTSTART;TZID=UTC:20260624T093000
DTEND;TZID=UTC:20260624T170000
DTSTAMP:20260421T145920
CREATED:20260404T184544Z
LAST-MODIFIED:20260404T184545Z
UID:4364-1782293400-1782320400@heartofenglandcyclingclub.co.uk
SUMMARY:Further & Faster -???- (Lawrence Cox)
DESCRIPTION:Details to follow…
URL:https://heartofenglandcyclingclub.co.uk/event/further-faster-lawrence-cox-8/
LOCATION:Red Lion – Earlswood\, The Red Lion Earlswood\, Solihull\, B94 6AQ\, United Kingdom
CATEGORIES:Further & Faster Ride
END:VEVENT
BEGIN:VEVENT
DTSTART;TZID=UTC:20260624T100000
DTEND;TZID=UTC:20260624T160000
DTSTAMP:20260421T145920
CREATED:20251228T204012Z
LAST-MODIFIED:20260104T161426Z
UID:4070-1782295200-1782316800@heartofenglandcyclingclub.co.uk
SUMMARY:Wednesday ride-Loops-[AMTim HydePMJohnStewart]
DESCRIPTION:Details to follow \nDownload \nDownload \n 
URL:https://heartofenglandcyclingclub.co.uk/event/wednesday-ride-loops-amtim-hydepmjohnstewart/
LOCATION:Red Lion – Earlswood\, The Red Lion Earlswood\, Solihull\, B94 6AQ\, United Kingdom
CATEGORIES:Wednesday Ride
END:VEVENT
BEGIN:VEVENT
DTSTART;TZID=UTC:20260902T100000
DTEND;TZID=UTC:20260902T163000
DTSTAMP:20260421T145920
CREATED:20260409T131845Z
LAST-MODIFIED:20260409T131845Z
UID:4372-1788343200-1788366600@heartofenglandcyclingclub.co.uk
SUMMARY:2sep26-RLE-Himbleton-SW-[Joan Cooper]
DESCRIPTION:Ride in memory of our fellow member Richard Freer-Hewish\, affectionally also known as “Seabass”. \n  \nDetails to follow
URL:https://heartofenglandcyclingclub.co.uk/event/2sep26-rle-himbleton-sw-joan-cooper/
LOCATION:Red Lion – Earlswood\, The Red Lion Earlswood\, Solihull\, B94 6AQ\, United Kingdom
CATEGORIES:Wednesday Ride
END:VEVENT
BEGIN:VEVENT
DTSTART;TZID=UTC:20260929T090000
DTEND;TZID=UTC:20260930T170000
DTSTAMP:20260421T145920
CREATED:20260403T202317Z
LAST-MODIFIED:20260403T202317Z
UID:4333-1790672400-1790787600@heartofenglandcyclingclub.co.uk
SUMMARY:2 day Cycling Tour-[Rob Gullen]
DESCRIPTION:The tour will consist of a car or train assisted start SE of our usual riding area and will involve 2 rides of 40-50 miles and an overnight stay. Places must be pre-booked. Further details to follow.
URL:https://heartofenglandcyclingclub.co.uk/event/2-day-cycling-tour-rob-gullen/
LOCATION:Car Assist
CATEGORIES:Special Event
END:VEVENT
END:VCALENDAR