BEGIN:VCALENDAR
VERSION:2.0
PRODID:-//Heart of England Cycling Club - ECPv6.15.20//NONSGML v1.0//EN
CALSCALE:GREGORIAN
METHOD:PUBLISH
X-WR-CALNAME:Heart of England Cycling Club
X-ORIGINAL-URL:https://heartofenglandcyclingclub.co.uk
X-WR-CALDESC:Events for Heart of England Cycling Club
REFRESH-INTERVAL;VALUE=DURATION:PT1H
X-Robots-Tag:noindex
X-PUBLISHED-TTL:PT1H
BEGIN:VTIMEZONE
TZID:UTC
BEGIN:STANDARD
TZOFFSETFROM:+0000
TZOFFSETTO:+0000
TZNAME:UTC
DTSTART:20250101T000000
END:STANDARD
END:VTIMEZONE
BEGIN:VEVENT
DTSTART;TZID=UTC:20260513T100000
DTEND;TZID=UTC:20260513T160000
DTSTAMP:20260421T123959
CREATED:20251228T202334Z
LAST-MODIFIED:20260104T162638Z
UID:4058-1778666400-1778688000@heartofenglandcyclingclub.co.uk
SUMMARY:Wednesday Ride-W-Droitwich-[Joan and Clive Cooper]
DESCRIPTION:Details to follow \nDownload \n 
URL:https://heartofenglandcyclingclub.co.uk/event/wednesday-ride-w-droitwich-joan-and-clive-cooper/
LOCATION:Red Lion – Earlswood\, The Red Lion Earlswood\, Solihull\, B94 6AQ\, United Kingdom
CATEGORIES:Wednesday Ride
END:VEVENT
BEGIN:VEVENT
DTSTART;TZID=UTC:20260513T100000
DTEND;TZID=UTC:20260513T130000
DTSTAMP:20260421T123959
CREATED:20260104T160114Z
LAST-MODIFIED:20260104T210419Z
UID:4094-1778666400-1778677200@heartofenglandcyclingclub.co.uk
SUMMARY:Café Ride-Gill Francis
DESCRIPTION:Coffee at Umberslade Farm
URL:https://heartofenglandcyclingclub.co.uk/event/cafe-ride/
CATEGORIES:Cafe Ride
END:VEVENT
BEGIN:VEVENT
DTSTART;TZID=UTC:20260513T093000
DTEND;TZID=UTC:20260513T170000
DTSTAMP:20260421T123959
CREATED:20260404T184539Z
LAST-MODIFIED:20260404T184539Z
UID:4358-1778664600-1778691600@heartofenglandcyclingclub.co.uk
SUMMARY:Further & Faster -???- (Ed Mathews)
DESCRIPTION:Details to follow…
URL:https://heartofenglandcyclingclub.co.uk/event/further-faster-ed-mathews-18/
LOCATION:Red Lion – Earlswood\, The Red Lion Earlswood\, Solihull\, B94 6AQ\, United Kingdom
CATEGORIES:Further & Faster Ride
END:VEVENT
BEGIN:VEVENT
DTSTART;TZID=UTC:20260510T100000
DTEND;TZID=UTC:20260510T131500
DTSTAMP:20260421T123959
CREATED:20260209T211623Z
LAST-MODIFIED:20260209T211624Z
UID:4215-1778407200-1778418900@heartofenglandcyclingclub.co.uk
SUMMARY:Sunday Casual/Social Ride - ??? (Gaye Key)
DESCRIPTION:Details to follow…
URL:https://heartofenglandcyclingclub.co.uk/event/sunday-casual-social-ride-gaye-key/
LOCATION:Red Lion – Earlswood\, The Red Lion Earlswood\, Solihull\, B94 6AQ\, United Kingdom
CATEGORIES:Sunday Casual/Social Ride
END:VEVENT
BEGIN:VEVENT
DTSTART;TZID=UTC:20260509T134500
DTEND;TZID=UTC:20260509T170000
DTSTAMP:20260421T123959
CREATED:20260404T184141Z
LAST-MODIFIED:20260404T184141Z
UID:4346-1778334300-1778346000@heartofenglandcyclingclub.co.uk
SUMMARY:Saturday Afternoon Ride (Mark Garlick)
DESCRIPTION:Afternoon ride\, destination agreed by those at the meet.
URL:https://heartofenglandcyclingclub.co.uk/event/saturday-afternoon-ride-mark-garlick-5/
LOCATION:Hickory’s Smokehouse – Earlswood\, Hickory's Smokehouse Earlswood\, Earlswood\, Warwickshire\, B94 5SL\, United Kingdom
CATEGORIES:Saturday Afternoon Ride
END:VEVENT
BEGIN:VEVENT
DTSTART;TZID=UTC:20260506T100000
DTEND;TZID=UTC:20260506T160000
DTSTAMP:20260421T123959
CREATED:20251228T202111Z
LAST-MODIFIED:20260415T191748Z
UID:4056-1778061600-1778083200@heartofenglandcyclingclub.co.uk
SUMMARY:Wednesday Ride-S-???-[Bob MacVie]
DESCRIPTION:Details to followDownload \n 
URL:https://heartofenglandcyclingclub.co.uk/event/wednesday-ride-s-linda-whitehead/
CATEGORIES:Wednesday Ride
END:VEVENT
BEGIN:VEVENT
DTSTART;TZID=UTC:20260506T093000
DTEND;TZID=UTC:20260506T170000
DTSTAMP:20260421T123959
CREATED:20260404T184539Z
LAST-MODIFIED:20260404T184539Z
UID:4357-1778059800-1778086800@heartofenglandcyclingclub.co.uk
SUMMARY:Further & Faster -???- (Andy Curley)
DESCRIPTION:Details to follow…
URL:https://heartofenglandcyclingclub.co.uk/event/further-faster-andy-curley-16/
LOCATION:Red Lion – Earlswood\, The Red Lion Earlswood\, Solihull\, B94 6AQ\, United Kingdom
CATEGORIES:Further & Faster Ride
END:VEVENT
BEGIN:VEVENT
DTSTART;TZID=UTC:20260503T123000
DTEND;TZID=UTC:20260503T140000
DTSTAMP:20260421T123959
CREATED:20260209T211017Z
LAST-MODIFIED:20260209T211017Z
UID:4197-1777811400-1777816800@heartofenglandcyclingclub.co.uk
SUMMARY:Sunday Lunchtime Meet Up - Henley -In-Arden
DESCRIPTION:Ride from home and meet up with others for lunch\, possibly cycle back together.
URL:https://heartofenglandcyclingclub.co.uk/event/sunday-lunchtime-meet-up-henley-in-arden/
LOCATION:Your Home\, United Kingdom
CATEGORIES:Sunday All Day Ride
END:VEVENT
BEGIN:VEVENT
DTSTART;TZID=UTC:20260503T100000
DTEND;TZID=UTC:20260503T131500
DTSTAMP:20260421T123959
CREATED:20260209T211621Z
LAST-MODIFIED:20260209T211621Z
UID:4214-1777802400-1777814100@heartofenglandcyclingclub.co.uk
SUMMARY:Sunday Casual/Social Ride - ??? (Chris Marklew)
DESCRIPTION:Details to follow…
URL:https://heartofenglandcyclingclub.co.uk/event/sunday-casual-social-ride-chris-marklew/
LOCATION:Red Lion – Earlswood\, The Red Lion Earlswood\, Solihull\, B94 6AQ\, United Kingdom
CATEGORIES:Sunday Casual/Social Ride
END:VEVENT
BEGIN:VEVENT
DTSTART;TZID=UTC:20260502T134500
DTEND;TZID=UTC:20260502T170000
DTSTAMP:20260421T123959
CREATED:20260404T184141Z
LAST-MODIFIED:20260404T184141Z
UID:4345-1777729500-1777741200@heartofenglandcyclingclub.co.uk
SUMMARY:Saturday Afternoon Ride (Alan Cooke)
DESCRIPTION:Afternoon ride\, destination agreed by those at the meet.
URL:https://heartofenglandcyclingclub.co.uk/event/saturday-afternoon-ride-alan-cooke-28/
LOCATION:Hickory’s Smokehouse – Earlswood\, Hickory's Smokehouse Earlswood\, Earlswood\, Warwickshire\, B94 5SL\, United Kingdom
CATEGORIES:Saturday Afternoon Ride
END:VEVENT
BEGIN:VEVENT
DTSTART;TZID=UTC:20260429T100000
DTEND;TZID=UTC:20260429T160000
DTSTAMP:20260421T123959
CREATED:20251228T201922Z
LAST-MODIFIED:20260104T163846Z
UID:4054-1777456800-1777478400@heartofenglandcyclingclub.co.uk
SUMMARY:Wednesday Ride-E-???-[Gaye Key]
DESCRIPTION:details to followDownload \n 
URL:https://heartofenglandcyclingclub.co.uk/event/wednesday-ride-e-gaye-key/
CATEGORIES:Wednesday Ride
END:VEVENT
BEGIN:VEVENT
DTSTART;TZID=UTC:20260429T100000
DTEND;TZID=UTC:20260429T130000
DTSTAMP:20260421T123959
CREATED:20260104T155906Z
LAST-MODIFIED:20260104T155931Z
UID:4092-1777456800-1777467600@heartofenglandcyclingclub.co.uk
SUMMARY:Café Ride-David Cole
DESCRIPTION:Coffee at Field to Fork\, Wootton Wawen
URL:https://heartofenglandcyclingclub.co.uk/event/cafe-ride-david-cole-3/
LOCATION:Red Lion – Earlswood\, The Red Lion Earlswood\, Solihull\, B94 6AQ\, United Kingdom
CATEGORIES:Cafe Ride
END:VEVENT
BEGIN:VEVENT
DTSTART;TZID=UTC:20260429T093000
DTEND;TZID=UTC:20260429T170000
DTSTAMP:20260421T123959
CREATED:20260209T211308Z
LAST-MODIFIED:20260209T211308Z
UID:4208-1777455000-1777482000@heartofenglandcyclingclub.co.uk
SUMMARY:Further & Faster -???- (Lawrence Cox)
DESCRIPTION:Details to follow…
URL:https://heartofenglandcyclingclub.co.uk/event/further-faster-lawrence-cox-6/
LOCATION:Red Lion – Earlswood\, The Red Lion Earlswood\, Solihull\, B94 6AQ\, United Kingdom
CATEGORIES:Further & Faster Ride
END:VEVENT
BEGIN:VEVENT
DTSTART;TZID=UTC:20260426T100000
DTEND;TZID=UTC:20260426T131500
DTSTAMP:20260421T123959
CREATED:20260209T211621Z
LAST-MODIFIED:20260415T095626Z
UID:4213-1777197600-1777209300@heartofenglandcyclingclub.co.uk
SUMMARY:Sunday Casual/Social Ride - ??? (Gill Francis)
DESCRIPTION:Details to follow…
URL:https://heartofenglandcyclingclub.co.uk/event/sunday-casual-social-ride-anne-garland/
LOCATION:Red Lion – Earlswood\, The Red Lion Earlswood\, Solihull\, B94 6AQ\, United Kingdom
CATEGORIES:Sunday Casual/Social Ride
END:VEVENT
BEGIN:VEVENT
DTSTART;TZID=UTC:20260425T134500
DTEND;TZID=UTC:20260425T170000
DTSTAMP:20260421T123959
CREATED:20260404T184140Z
LAST-MODIFIED:20260418T194104Z
UID:4344-1777124700-1777136400@heartofenglandcyclingclub.co.uk
SUMMARY:Saturday Afternoon Ride - Alvechurch (Mark Garlick)
DESCRIPTION:A southerly loop rides finishing at the Weighbridge.
URL:https://heartofenglandcyclingclub.co.uk/event/saturday-afternoon-ride-jon-tuckey-24/
LOCATION:Hickory’s Smokehouse – Earlswood\, Hickory's Smokehouse Earlswood\, Earlswood\, Warwickshire\, B94 5SL\, United Kingdom
CATEGORIES:Saturday Afternoon Ride
END:VEVENT
BEGIN:VEVENT
DTSTART;TZID=UTC:20260422T134500
DTEND;TZID=UTC:20260422T153000
DTSTAMP:20260421T123959
CREATED:20260316T205425Z
LAST-MODIFIED:20260316T205425Z
UID:4277-1776865500-1776871800@heartofenglandcyclingclub.co.uk
SUMMARY:Committee Meeting
DESCRIPTION:
URL:https://heartofenglandcyclingclub.co.uk/event/committee-meeting/
LOCATION:Coach & Horses Inn – Weatheroak\, Weatheroak Hill Brewery\, Alvechurch\, B48 7EA\, United Kingdom
CATEGORIES:Committee Meeting
END:VEVENT
BEGIN:VEVENT
DTSTART;TZID=UTC:20260422T100000
DTEND;TZID=UTC:20260422T160000
DTSTAMP:20260421T123959
CREATED:20251228T201209Z
LAST-MODIFIED:20260419T183423Z
UID:4050-1776852000-1776873600@heartofenglandcyclingclub.co.uk
SUMMARY:Wednesday Ride-Loops AM-[Clive CooperPMDave Chalmers]
DESCRIPTION:Lunch at The Coach and Horses\, Weatheroak Hill \nDownload \nDownload \n 
URL:https://heartofenglandcyclingclub.co.uk/event/wednesday-ride-loops-amclive-cooperpmdave-chalmers/
LOCATION:Red Lion – Earlswood\, The Red Lion Earlswood\, Solihull\, B94 6AQ\, United Kingdom
CATEGORIES:Wednesday Ride
END:VEVENT
BEGIN:VEVENT
DTSTART;TZID=UTC:20260422T093000
DTEND;TZID=UTC:20260422T170000
DTSTAMP:20260421T123959
CREATED:20260209T211307Z
LAST-MODIFIED:20260420T190750Z
UID:4207-1776850200-1776877200@heartofenglandcyclingclub.co.uk
SUMMARY:Further & Faster - Bishops Itchington (Jon Porteous)
DESCRIPTION:11s in Wellesbourne\, lunch at Butchers Arms in Bishops Itchington. This ride will recce most of the 100k Audax route. Morning and afternoon GPX routes are in the Ride Library.
URL:https://heartofenglandcyclingclub.co.uk/event/further-faster-jon-porteous-21/
LOCATION:Red Lion – Earlswood\, The Red Lion Earlswood\, Solihull\, B94 6AQ\, United Kingdom
CATEGORIES:Further & Faster Ride
END:VEVENT
BEGIN:VEVENT
DTSTART;TZID=UTC:20260419T123000
DTEND;TZID=UTC:20260419T140000
DTSTAMP:20260421T123959
CREATED:20260209T211016Z
LAST-MODIFIED:20260414T161102Z
UID:4196-1776601800-1776607200@heartofenglandcyclingclub.co.uk
SUMMARY:Sunday Lunchtime Meet Up - Studley
DESCRIPTION:Ride from home and meet up with others for lunch at Studley tap house \n\n← Back Thank you for your response. ✨\n\n\n					\n						\n							\n							\n						\n						\n						\n						\n						\n							\n								\n									\n										\n										\n									\n									\n										\n										\n									\n								\n							\n						\n						\n							\n								\n									\n									\n										\n									\n									\n									\n								\n							\n						\n					\n				\n\n\n\nName(required)\n\n \n			\n				\n					\n						\n						\n						\n					\n				\n				\n			 \n	\n\n\nEmail(required)\n\n \n			\n				\n					\n						\n						\n						\n					\n				\n				\n			 \n	\n\n\nWebsite\n\n \n			\n				\n					\n						\n						\n						\n					\n				\n				\n			 \n	\n\n\nMessage\n\n \n			\n				\n					\n						\n						\n						\n					\n				\n				\n			\n	\n	\n\n				\n					\n				\n						Submit		\n		\n		\n	 \nΔ \n\n\n← Back Thank you for your response. ✨\n\n\n					\n						\n							\n							\n						\n						\n						\n						\n						\n							\n								\n									\n										\n										\n									\n									\n										\n										\n									\n								\n							\n						\n						\n							\n								\n									\n									\n										\n									\n									\n									\n								\n							\n						\n					\n				\n\n\n\nName(required)\n\n \n			\n				\n					\n						\n						\n						\n					\n				\n				\n			 \n	\n\n\nEmail(required)\n\n \n			\n				\n					\n						\n						\n						\n					\n				\n				\n			 \n	\n\n\nWebsite\n\n \n			\n				\n					\n						\n						\n						\n					\n				\n				\n			 \n	\n\n\nMessage\n\n \n			\n				\n					\n						\n						\n						\n					\n				\n				\n			\n	\n	\n\n				\n					\n				\n						Submit		\n		\n		\n	 \nΔ \n\n\, possibly cycle back together.
URL:https://heartofenglandcyclingclub.co.uk/event/sunday-lunchtime-meet-up-studley-3/
LOCATION:Your Home\, United Kingdom
CATEGORIES:Sunday All Day Ride
END:VEVENT
BEGIN:VEVENT
DTSTART;TZID=UTC:20260419T100000
DTEND;TZID=UTC:20260419T131500
DTSTAMP:20260421T123959
CREATED:20260209T211620Z
LAST-MODIFIED:20260418T194630Z
UID:4212-1776592800-1776604500@heartofenglandcyclingclub.co.uk
SUMMARY:Sunday Casual/Social Ride - Wythall (Anne Garland)
DESCRIPTION:Coffee at Beckets Farm.
URL:https://heartofenglandcyclingclub.co.uk/event/sunday-casual-social-ride-gill-francis/
LOCATION:Red Lion – Earlswood\, The Red Lion Earlswood\, Solihull\, B94 6AQ\, United Kingdom
CATEGORIES:Sunday Casual/Social Ride
END:VEVENT
BEGIN:VEVENT
DTSTART;TZID=UTC:20260418T134500
DTEND;TZID=UTC:20260418T170000
DTSTAMP:20260421T123959
CREATED:20260209T210811Z
LAST-MODIFIED:20260417T150940Z
UID:4190-1776519900-1776531600@heartofenglandcyclingclub.co.uk
SUMMARY:Saturday Afternoon Ride (Jon Tuckey)
DESCRIPTION:Southerly loop via Studley and finishing at the Coach & Horses\, Weatheroak.
URL:https://heartofenglandcyclingclub.co.uk/event/saturday-afternoon-ride-alan-cooke-27/
LOCATION:Hickory’s Smokehouse – Earlswood\, Hickory's Smokehouse Earlswood\, Earlswood\, Warwickshire\, B94 5SL\, United Kingdom
CATEGORIES:Saturday Afternoon Ride
END:VEVENT
BEGIN:VEVENT
DTSTART;TZID=UTC:20260415T100000
DTEND;TZID=UTC:20260415T160000
DTSTAMP:20260421T123959
CREATED:20251228T200743Z
LAST-MODIFIED:20260411T163325Z
UID:4048-1776247200-1776268800@heartofenglandcyclingclub.co.uk
SUMMARY:Wednesday Ride-NW-Bournheath-[Phil Green]
DESCRIPTION:Lunch at The Nailers Arms\, Bournheath \nDownload \n 
URL:https://heartofenglandcyclingclub.co.uk/event/wednesday-ride-nw-tim-hyde/
LOCATION:Red Lion – Earlswood\, The Red Lion Earlswood\, Solihull\, B94 6AQ\, United Kingdom
CATEGORIES:Wednesday Ride
END:VEVENT
BEGIN:VEVENT
DTSTART;TZID=UTC:20260415T093000
DTEND;TZID=UTC:20260415T170000
DTSTAMP:20260421T123959
CREATED:20260209T211307Z
LAST-MODIFIED:20260414T161343Z
UID:4206-1776245400-1776272400@heartofenglandcyclingclub.co.uk
SUMMARY:Further & Faster - CANCELLED (Andy Curley)
DESCRIPTION:← Back Thank you for your response. ✨\n\n\n					\n						\n							\n							\n						\n						\n						\n						\n						\n							\n								\n									\n										\n										\n									\n									\n										\n										\n									\n								\n							\n						\n						\n							\n								\n									\n									\n										\n									\n									\n									\n								\n							\n						\n					\n				\n\n\n\nName(required)\n\n \n			\n				\n					\n						\n						\n						\n					\n				\n				\n			 \n	\n\n\nEmail(required)\n\n \n			\n				\n					\n						\n						\n						\n					\n				\n				\n			 \n	\n\n\nWebsite\n\n \n			\n				\n					\n						\n						\n						\n					\n				\n				\n			 \n	\n\n\nMessage\n\n \n			\n				\n					\n						\n						\n						\n					\n				\n				\n			\n	\n	\n\n				\n					\n				\n						Submit		\n		\n		\n	 \nΔ \n\nUPDATE: Ride cancelled. \nMeet in Alvechurch\, lunch at Royal Oak. Route in GPX Library ‘ Alvechurch to The Oak’.
URL:https://heartofenglandcyclingclub.co.uk/event/further-faster-andy-curley-15/
LOCATION:Alvechurch – Cafe Morso\, 9 The Square\, Alvechurch\, B487LA\, United Kingdom
CATEGORIES:Further & Faster Ride
END:VEVENT
BEGIN:VEVENT
DTSTART;TZID=UTC:20260412T100000
DTEND;TZID=UTC:20260412T131500
DTSTAMP:20260421T123959
CREATED:20260209T211620Z
LAST-MODIFIED:20260409T162358Z
UID:4211-1775988000-1775999700@heartofenglandcyclingclub.co.uk
SUMMARY:Sunday Casual/Social Ride - Hatton (Mike Buckley)
DESCRIPTION:11s Coffee stop at Hatton Country World. 25 mile GPX route is in the Library.
URL:https://heartofenglandcyclingclub.co.uk/event/sunday-casual-social-ride-tim-hyde/
LOCATION:Red Lion – Earlswood\, The Red Lion Earlswood\, Solihull\, B94 6AQ\, United Kingdom
CATEGORIES:Sunday Casual/Social Ride
END:VEVENT
BEGIN:VEVENT
DTSTART;TZID=UTC:20260411T134500
DTEND;TZID=UTC:20260411T170000
DTSTAMP:20260421T123959
CREATED:20260209T210811Z
LAST-MODIFIED:20260409T115810Z
UID:4189-1775915100-1775926800@heartofenglandcyclingclub.co.uk
SUMMARY:Saturday Afternoon Ride (N.E. Member)
DESCRIPTION:Afternoon ride\, destination agreed by those at the meet.
URL:https://heartofenglandcyclingclub.co.uk/event/saturday-afternoon-ride-jon-tuckey-23/
LOCATION:Hickory’s Smokehouse – Earlswood\, Hickory's Smokehouse Earlswood\, Earlswood\, Warwickshire\, B94 5SL\, United Kingdom
CATEGORIES:Saturday Afternoon Ride
END:VEVENT
BEGIN:VEVENT
DTSTART;TZID=UTC:20260408T100000
DTEND;TZID=UTC:20260408T170000
DTSTAMP:20260421T123959
CREATED:20251228T200537Z
LAST-MODIFIED:20260403T200539Z
UID:4046-1775642400-1775667600@heartofenglandcyclingclub.co.uk
SUMMARY:Wednesday Ride-SW-Feckenham-[Mike Buckley]
DESCRIPTION:Lunch at The Rose and Crown \nDownload \n 
URL:https://heartofenglandcyclingclub.co.uk/event/wednesday-ride-sw-mike-buckley/
LOCATION:Red Lion – Earlswood\, The Red Lion Earlswood\, Solihull\, B94 6AQ\, United Kingdom
CATEGORIES:Wednesday Ride
END:VEVENT
BEGIN:VEVENT
DTSTART;TZID=UTC:20260408T100000
DTEND;TZID=UTC:20260408T130000
DTSTAMP:20260421T123959
CREATED:20260104T155702Z
LAST-MODIFIED:20260404T152829Z
UID:4090-1775642400-1775653200@heartofenglandcyclingclub.co.uk
SUMMARY:Café Ride-Chris Marklew
DESCRIPTION:Coffee at Studley Garden Centre \nDownload \n 
URL:https://heartofenglandcyclingclub.co.uk/event/cafe-ride-chris-marklew-2/
LOCATION:Red Lion – Earlswood\, The Red Lion Earlswood\, Solihull\, B94 6AQ\, United Kingdom
CATEGORIES:Cafe Ride
END:VEVENT
BEGIN:VEVENT
DTSTART;TZID=UTC:20260408T093000
DTEND;TZID=UTC:20260408T170000
DTSTAMP:20260421T123959
CREATED:20260209T215918Z
LAST-MODIFIED:20260407T180603Z
UID:4228-1775640600-1775667600@heartofenglandcyclingclub.co.uk
SUMMARY:Further & Faster - CANCELLED
DESCRIPTION:Ride CANCELLED. \n\n← Back Thank you for your response. ✨\n\n\n					\n						\n							\n							\n						\n						\n						\n						\n						\n							\n								\n									\n										\n										\n									\n									\n										\n										\n									\n								\n							\n						\n						\n							\n								\n									\n									\n										\n									\n									\n									\n								\n							\n						\n					\n				\n\n\n\nName(required)\n\n \n			\n				\n					\n						\n						\n						\n					\n				\n				\n			 \n	\n\n\nEmail(required)\n\n \n			\n				\n					\n						\n						\n						\n					\n				\n				\n			 \n	\n\n\nWebsite\n\n \n			\n				\n					\n						\n						\n						\n					\n				\n				\n			 \n	\n\n\nMessage\n\n \n			\n				\n					\n						\n						\n						\n					\n				\n				\n			\n	\n	\n\n				\n					\n				\n						Submit		\n		\n		\n	 \nΔ
URL:https://heartofenglandcyclingclub.co.uk/event/further-faster-n-e-member/
LOCATION:Red Lion – Earlswood\, The Red Lion Earlswood\, Solihull\, B94 6AQ\, United Kingdom
CATEGORIES:Further & Faster Ride
END:VEVENT
BEGIN:VEVENT
DTSTART;TZID=UTC:20260405T123000
DTEND;TZID=UTC:20260405T140000
DTSTAMP:20260421T123959
CREATED:20260209T211016Z
LAST-MODIFIED:20260320T200017Z
UID:4195-1775392200-1775397600@heartofenglandcyclingclub.co.uk
SUMMARY:Sunday Lunchtime Meet Up -Finstall
DESCRIPTION:Ride from home and meet up with others for lunch at the Cross Inn\, possibly cycle back together.
URL:https://heartofenglandcyclingclub.co.uk/event/sunday-lunchtime-meet-up-finstall-2/
LOCATION:Your Home\, United Kingdom
CATEGORIES:Sunday All Day Ride
END:VEVENT
BEGIN:VEVENT
DTSTART;TZID=UTC:20260405T100000
DTEND;TZID=UTC:20260405T131500
DTSTAMP:20260421T123959
CREATED:20260209T211619Z
LAST-MODIFIED:20260402T192754Z
UID:4210-1775383200-1775394900@heartofenglandcyclingclub.co.uk
SUMMARY:Sunday Casual/Social Ride - Berkswell (Tim Hyde)
DESCRIPTION:Coffee at The Nook\, Berkswell Village Stores. 24 mile route is in the GPX Library.
URL:https://heartofenglandcyclingclub.co.uk/event/sunday-casual-social-ride-alex-neely/
LOCATION:Red Lion – Earlswood\, The Red Lion Earlswood\, Solihull\, B94 6AQ\, United Kingdom
CATEGORIES:Sunday Casual/Social Ride
END:VEVENT
END:VCALENDAR