BEGIN:VCALENDAR
VERSION:2.0
PRODID:-//Heart of England Cycling Club - ECPv6.15.20//NONSGML v1.0//EN
CALSCALE:GREGORIAN
METHOD:PUBLISH
X-WR-CALNAME:Heart of England Cycling Club
X-ORIGINAL-URL:https://heartofenglandcyclingclub.co.uk
X-WR-CALDESC:Events for Heart of England Cycling Club
REFRESH-INTERVAL;VALUE=DURATION:PT1H
X-Robots-Tag:noindex
X-PUBLISHED-TTL:PT1H
BEGIN:VTIMEZONE
TZID:UTC
BEGIN:STANDARD
TZOFFSETFROM:+0000
TZOFFSETTO:+0000
TZNAME:UTC
DTSTART:20250101T000000
END:STANDARD
END:VTIMEZONE
BEGIN:VEVENT
DTSTART;TZID=UTC:20260624T100000
DTEND;TZID=UTC:20260624T160000
DTSTAMP:20260419T124728
CREATED:20251228T204012Z
LAST-MODIFIED:20260104T161426Z
UID:4070-1782295200-1782316800@heartofenglandcyclingclub.co.uk
SUMMARY:Wednesday ride-Loops-[AMTim HydePMJohnStewart]
DESCRIPTION:Details to follow \nDownload \nDownload \n 
URL:https://heartofenglandcyclingclub.co.uk/event/wednesday-ride-loops-amtim-hydepmjohnstewart/
LOCATION:Red Lion – Earlswood\, The Red Lion Earlswood\, Solihull\, B94 6AQ\, United Kingdom
CATEGORIES:Wednesday Ride
END:VEVENT
BEGIN:VEVENT
DTSTART;TZID=UTC:20260624T093000
DTEND;TZID=UTC:20260624T170000
DTSTAMP:20260419T124728
CREATED:20260404T184544Z
LAST-MODIFIED:20260404T184545Z
UID:4364-1782293400-1782320400@heartofenglandcyclingclub.co.uk
SUMMARY:Further & Faster -???- (Lawrence Cox)
DESCRIPTION:Details to follow…
URL:https://heartofenglandcyclingclub.co.uk/event/further-faster-lawrence-cox-8/
LOCATION:Red Lion – Earlswood\, The Red Lion Earlswood\, Solihull\, B94 6AQ\, United Kingdom
CATEGORIES:Further & Faster Ride
END:VEVENT
BEGIN:VEVENT
DTSTART;TZID=UTC:20260617T100000
DTEND;TZID=UTC:20260617T163000
DTSTAMP:20260419T124729
CREATED:20251228T203557Z
LAST-MODIFIED:20260415T191520Z
UID:4068-1781690400-1781713800@heartofenglandcyclingclub.co.uk
SUMMARY:Wednesday Ride-NE-???-[Linda Whitehead]
DESCRIPTION:Details to follow \nDownload \n 
URL:https://heartofenglandcyclingclub.co.uk/event/wednesday-ride-nw-tony-stonehewer/
LOCATION:Red Lion – Earlswood\, The Red Lion Earlswood\, Solihull\, B94 6AQ\, United Kingdom
CATEGORIES:Wednesday Ride
END:VEVENT
BEGIN:VEVENT
DTSTART;TZID=UTC:20260617T093000
DTEND;TZID=UTC:20260617T170000
DTSTAMP:20260419T124729
CREATED:20260404T184544Z
LAST-MODIFIED:20260404T184545Z
UID:4363-1781688600-1781715600@heartofenglandcyclingclub.co.uk
SUMMARY:Further & Faster -???- (Jon Porteous)
DESCRIPTION:Details to follow…
URL:https://heartofenglandcyclingclub.co.uk/event/further-faster-jon-porteous-23/
LOCATION:Red Lion – Earlswood\, The Red Lion Earlswood\, Solihull\, B94 6AQ\, United Kingdom
CATEGORIES:Further & Faster Ride
END:VEVENT
BEGIN:VEVENT
DTSTART;TZID=UTC:20260613T134500
DTEND;TZID=UTC:20260613T170000
DTSTAMP:20260419T124729
CREATED:20260404T184145Z
LAST-MODIFIED:20260404T184146Z
UID:4351-1781358300-1781370000@heartofenglandcyclingclub.co.uk
SUMMARY:Saturday Afternoon Ride (Alan Cooke)
DESCRIPTION:Afternoon ride\, destination agreed by those at the meet.
URL:https://heartofenglandcyclingclub.co.uk/event/saturday-afternoon-ride-alan-cooke-30/
LOCATION:Hickory’s Smokehouse – Earlswood\, Hickory's Smokehouse Earlswood\, Earlswood\, Warwickshire\, B94 5SL\, United Kingdom
CATEGORIES:Saturday Afternoon Ride
END:VEVENT
BEGIN:VEVENT
DTSTART;TZID=UTC:20260610T100000
DTEND;TZID=UTC:20260610T160000
DTSTAMP:20260419T124729
CREATED:20251228T203404Z
LAST-MODIFIED:20260415T192038Z
UID:4066-1781085600-1781107200@heartofenglandcyclingclub.co.uk
SUMMARY:Wednesday Ride-SW-???-[Tim Hyde]
DESCRIPTION:Details to follow \nDownload \n 
URL:https://heartofenglandcyclingclub.co.uk/event/wednesday-ride-sw-phil-green/
LOCATION:Red Lion – Earlswood\, The Red Lion Earlswood\, Solihull\, B94 6AQ\, United Kingdom
CATEGORIES:Wednesday Ride
END:VEVENT
BEGIN:VEVENT
DTSTART;TZID=UTC:20260610T100000
DTEND;TZID=UTC:20260610T130000
DTSTAMP:20260419T124729
CREATED:20260104T160450Z
LAST-MODIFIED:20260104T160450Z
UID:4098-1781085600-1781096400@heartofenglandcyclingclub.co.uk
SUMMARY:Café Ride-David Cole
DESCRIPTION:Coffee at Hatton Locks
URL:https://heartofenglandcyclingclub.co.uk/event/cafe-ride-david-cole-4/
LOCATION:Red Lion – Earlswood\, The Red Lion Earlswood\, Solihull\, B94 6AQ\, United Kingdom
CATEGORIES:Cafe Ride
END:VEVENT
BEGIN:VEVENT
DTSTART;TZID=UTC:20260610T093000
DTEND;TZID=UTC:20260610T170000
DTSTAMP:20260419T124729
CREATED:20260404T184543Z
LAST-MODIFIED:20260404T184545Z
UID:4362-1781083800-1781110800@heartofenglandcyclingclub.co.uk
SUMMARY:Further & Faster -???- (Andy Curley)
DESCRIPTION:Details to follow…
URL:https://heartofenglandcyclingclub.co.uk/event/further-faster-andy-curley-17/
LOCATION:Red Lion – Earlswood\, The Red Lion Earlswood\, Solihull\, B94 6AQ\, United Kingdom
CATEGORIES:Further & Faster Ride
END:VEVENT
BEGIN:VEVENT
DTSTART;TZID=UTC:20260606T134500
DTEND;TZID=UTC:20260606T170000
DTSTAMP:20260419T124729
CREATED:20260404T184145Z
LAST-MODIFIED:20260404T184146Z
UID:4350-1780753500-1780765200@heartofenglandcyclingclub.co.uk
SUMMARY:Saturday Afternoon Ride (Jon Tuckey)
DESCRIPTION:Afternoon ride\, destination agreed by those at the meet.
URL:https://heartofenglandcyclingclub.co.uk/event/saturday-afternoon-ride-jon-tuckey-26/
LOCATION:Hickory’s Smokehouse – Earlswood\, Hickory's Smokehouse Earlswood\, Earlswood\, Warwickshire\, B94 5SL\, United Kingdom
CATEGORIES:Saturday Afternoon Ride
END:VEVENT
BEGIN:VEVENT
DTSTART;TZID=UTC:20260603T100000
DTEND;TZID=UTC:20260603T160000
DTSTAMP:20260419T124729
CREATED:20251228T203152Z
LAST-MODIFIED:20260415T191610Z
UID:4064-1780480800-1780502400@heartofenglandcyclingclub.co.uk
SUMMARY:Wednesday Ride-SE-???-[Tony Stonehewer]
DESCRIPTION:Details to follow \nDownload \n 
URL:https://heartofenglandcyclingclub.co.uk/event/wednesday-ride-se-bob-macvie/
LOCATION:Red Lion – Earlswood\, The Red Lion Earlswood\, Solihull\, B94 6AQ\, United Kingdom
CATEGORIES:Wednesday Ride
END:VEVENT
BEGIN:VEVENT
DTSTART;TZID=UTC:20260603T093000
DTEND;TZID=UTC:20260603T170000
DTSTAMP:20260419T124729
CREATED:20260404T184540Z
LAST-MODIFIED:20260404T184540Z
UID:4361-1780479000-1780506000@heartofenglandcyclingclub.co.uk
SUMMARY:Further & Faster -???- (Ed Mathews)
DESCRIPTION:Details to follow…
URL:https://heartofenglandcyclingclub.co.uk/event/further-faster-ed-mathews-19/
LOCATION:Red Lion – Earlswood\, The Red Lion Earlswood\, Solihull\, B94 6AQ\, United Kingdom
CATEGORIES:Further & Faster Ride
END:VEVENT
BEGIN:VEVENT
DTSTART;TZID=UTC:20260531T123000
DTEND;TZID=UTC:20260531T140000
DTSTAMP:20260419T124729
CREATED:20260209T211020Z
LAST-MODIFIED:20260209T211020Z
UID:4199-1780230600-1780236000@heartofenglandcyclingclub.co.uk
SUMMARY:Sunday Lunchtime Meet Up - Shustoke
DESCRIPTION:Ride from home and meet up with others for lunch\, possibly cycle back together.
URL:https://heartofenglandcyclingclub.co.uk/event/sunday-lunchtime-meet-up-shustoke/
LOCATION:Your Home\, United Kingdom
CATEGORIES:Sunday All Day Ride
END:VEVENT
BEGIN:VEVENT
DTSTART;TZID=UTC:20260530T134500
DTEND;TZID=UTC:20260530T170000
DTSTAMP:20260419T124729
CREATED:20260404T184145Z
LAST-MODIFIED:20260404T184146Z
UID:4349-1780148700-1780160400@heartofenglandcyclingclub.co.uk
SUMMARY:Saturday Afternoon Ride (Mark Garlick)
DESCRIPTION:Afternoon ride\, destination agreed by those at the meet.
URL:https://heartofenglandcyclingclub.co.uk/event/saturday-afternoon-ride-mark-garlick-6/
LOCATION:Hickory’s Smokehouse – Earlswood\, Hickory's Smokehouse Earlswood\, Earlswood\, Warwickshire\, B94 5SL\, United Kingdom
CATEGORIES:Saturday Afternoon Ride
END:VEVENT
BEGIN:VEVENT
DTSTART;TZID=UTC:20260527T100000
DTEND;TZID=UTC:20260527T170000
DTSTAMP:20260419T124729
CREATED:20251228T202944Z
LAST-MODIFIED:20260104T162228Z
UID:4062-1779876000-1779901200@heartofenglandcyclingclub.co.uk
SUMMARY:Wednesday Ride-Car assist-???-[Alex Neely]
DESCRIPTION:Details to follow \nDownload \n  \n 
URL:https://heartofenglandcyclingclub.co.uk/event/wednesday-ride-car-assist-alex-neely/
LOCATION:Car Assist
CATEGORIES:Wednesday Ride
END:VEVENT
BEGIN:VEVENT
DTSTART;TZID=UTC:20260527T100000
DTEND;TZID=UTC:20260527T130000
DTSTAMP:20260419T124729
CREATED:20260104T160259Z
LAST-MODIFIED:20260104T160259Z
UID:4096-1779876000-1779886800@heartofenglandcyclingclub.co.uk
SUMMARY:Café Ride-Chris Marklew
DESCRIPTION:Coffee at Island Meadow
URL:https://heartofenglandcyclingclub.co.uk/event/cafe-ride-chris-marklew-3/
LOCATION:Red Lion – Earlswood\, The Red Lion Earlswood\, Solihull\, B94 6AQ\, United Kingdom
CATEGORIES:Cafe Ride
END:VEVENT
BEGIN:VEVENT
DTSTART;TZID=UTC:20260527T093000
DTEND;TZID=UTC:20260527T170000
DTSTAMP:20260419T124729
CREATED:20260404T184540Z
LAST-MODIFIED:20260404T184540Z
UID:4360-1779874200-1779901200@heartofenglandcyclingclub.co.uk
SUMMARY:Further & Faster -???- (Lawrence Cox)
DESCRIPTION:Details to follow…
URL:https://heartofenglandcyclingclub.co.uk/event/further-faster-lawrence-cox-7/
LOCATION:Red Lion – Earlswood\, The Red Lion Earlswood\, Solihull\, B94 6AQ\, United Kingdom
CATEGORIES:Further & Faster Ride
END:VEVENT
BEGIN:VEVENT
DTSTART;TZID=UTC:20260524T100000
DTEND;TZID=UTC:20260524T131500
DTSTAMP:20260419T124729
CREATED:20260209T211624Z
LAST-MODIFIED:20260209T211625Z
UID:4217-1779616800-1779628500@heartofenglandcyclingclub.co.uk
SUMMARY:Sunday Casual/Social Ride - ??? (Paul Lane)
DESCRIPTION:Details to follow…
URL:https://heartofenglandcyclingclub.co.uk/event/sunday-casual-social-ride-paul-lane/
LOCATION:Red Lion – Earlswood\, The Red Lion Earlswood\, Solihull\, B94 6AQ\, United Kingdom
CATEGORIES:Sunday Casual/Social Ride
END:VEVENT
BEGIN:VEVENT
DTSTART;TZID=UTC:20260523T134500
DTEND;TZID=UTC:20260523T170000
DTSTAMP:20260419T124729
CREATED:20260404T184142Z
LAST-MODIFIED:20260404T184142Z
UID:4348-1779543900-1779555600@heartofenglandcyclingclub.co.uk
SUMMARY:Saturday Afternoon Ride (Alan Cooke)
DESCRIPTION:Afternoon ride\, destination agreed by those at the meet.
URL:https://heartofenglandcyclingclub.co.uk/event/saturday-afternoon-ride-alan-cooke-29/
LOCATION:Hickory’s Smokehouse – Earlswood\, Hickory's Smokehouse Earlswood\, Earlswood\, Warwickshire\, B94 5SL\, United Kingdom
CATEGORIES:Saturday Afternoon Ride
END:VEVENT
BEGIN:VEVENT
DTSTART;TZID=UTC:20260520T100000
DTEND;TZID=UTC:20260520T160000
DTSTAMP:20260419T124729
CREATED:20251228T202532Z
LAST-MODIFIED:20260104T162512Z
UID:4060-1779271200-1779292800@heartofenglandcyclingclub.co.uk
SUMMARY:Wednesday Ride-NE-???-[Kelvin Staple]
DESCRIPTION:Details to follow \nDownload \n 
URL:https://heartofenglandcyclingclub.co.uk/event/wednesday-ride-ne-kelvin-staple/
LOCATION:Hickory’s Smokehouse – Earlswood\, Hickory's Smokehouse Earlswood\, Earlswood\, Warwickshire\, B94 5SL\, United Kingdom
CATEGORIES:Wednesday Ride
END:VEVENT
BEGIN:VEVENT
DTSTART;TZID=UTC:20260520T093000
DTEND;TZID=UTC:20260520T170000
DTSTAMP:20260419T124729
CREATED:20260404T184539Z
LAST-MODIFIED:20260404T184539Z
UID:4359-1779269400-1779296400@heartofenglandcyclingclub.co.uk
SUMMARY:Further & Faster -???- (Jon Porteous)
DESCRIPTION:Details to follow…
URL:https://heartofenglandcyclingclub.co.uk/event/further-faster-jon-porteous-22/
LOCATION:Red Lion – Earlswood\, The Red Lion Earlswood\, Solihull\, B94 6AQ\, United Kingdom
CATEGORIES:Further & Faster Ride
END:VEVENT
BEGIN:VEVENT
DTSTART;TZID=UTC:20260517T123000
DTEND;TZID=UTC:20260517T140000
DTSTAMP:20260419T124729
CREATED:20260209T211019Z
LAST-MODIFIED:20260209T211019Z
UID:4198-1779021000-1779026400@heartofenglandcyclingclub.co.uk
SUMMARY:Sunday Lunchtime Meet Up - Feckenham
DESCRIPTION:Ride from home and meet up with others for lunch\, possibly cycle back together.
URL:https://heartofenglandcyclingclub.co.uk/event/sunday-lunchtime-meet-up-feckenham/
LOCATION:Your Home\, United Kingdom
CATEGORIES:Sunday All Day Ride
END:VEVENT
BEGIN:VEVENT
DTSTART;TZID=UTC:20260517T110000
DTEND;TZID=UTC:20260517T120000
DTSTAMP:20260419T124729
CREATED:20260402T193406Z
LAST-MODIFIED:20260402T193406Z
UID:4329-1779015600-1779019200@heartofenglandcyclingclub.co.uk
SUMMARY:Cyclists' Memorial Service - Meriden Green @ 11am
DESCRIPTION:Cycle from home and join others for the Cyclists’ Memorial Service at Meriden Green. Refreshments available afterwards at Meriden Village Hall.
URL:https://heartofenglandcyclingclub.co.uk/event/cyclists-memorial-service-meriden-green-11am/
LOCATION:Meriden  Green\, The Green\, Meriden\, CV77LN\, United Kingdom
CATEGORIES:Special Event
END:VEVENT
BEGIN:VEVENT
DTSTART;TZID=UTC:20260517T100000
DTEND;TZID=UTC:20260517T131500
DTSTAMP:20260419T124729
CREATED:20260209T211624Z
LAST-MODIFIED:20260209T211624Z
UID:4216-1779012000-1779023700@heartofenglandcyclingclub.co.uk
SUMMARY:Sunday Casual/Social Ride - ??? (Tony Wilkey)
DESCRIPTION:Details to follow…
URL:https://heartofenglandcyclingclub.co.uk/event/sunday-casual-social-ride-tony-wilkey/
LOCATION:Red Lion – Earlswood\, The Red Lion Earlswood\, Solihull\, B94 6AQ\, United Kingdom
CATEGORIES:Sunday Casual/Social Ride
END:VEVENT
BEGIN:VEVENT
DTSTART;TZID=UTC:20260516T134500
DTEND;TZID=UTC:20260516T170000
DTSTAMP:20260419T124729
CREATED:20260404T184141Z
LAST-MODIFIED:20260404T184427Z
UID:4347-1778939100-1778950800@heartofenglandcyclingclub.co.uk
SUMMARY:Saturday Afternoon Ride (N.E. Member)
DESCRIPTION:Afternoon ride\, destination agreed by those at the meet.
URL:https://heartofenglandcyclingclub.co.uk/event/saturday-afternoon-ride-jon-tuckey-25/
LOCATION:Hickory’s Smokehouse – Earlswood\, Hickory's Smokehouse Earlswood\, Earlswood\, Warwickshire\, B94 5SL\, United Kingdom
CATEGORIES:Saturday Afternoon Ride
END:VEVENT
BEGIN:VEVENT
DTSTART;TZID=UTC:20260516T080000
DTEND;TZID=UTC:20260516T183000
DTSTAMP:20260419T124729
CREATED:20260325T203834Z
LAST-MODIFIED:20260325T204625Z
UID:4316-1778918400-1778956200@heartofenglandcyclingclub.co.uk
SUMMARY:Meriden Audax Rides
DESCRIPTION:Audax rides starting from Meriden Methodist Hall. We have run these events for many years; offering free parking\, toilets and food at the start\, controls offering reasonably priced refreshments at local community halls on route and free beans on toast with drink at the end of the ride. The money made at the controls go towards maintaining the community halls.  Two\, local\, traditional Audax rides for riders to enjoy\, entry via the Audax Website: \nEnter 150k Here \nEnter 100k Here
URL:https://heartofenglandcyclingclub.co.uk/event/meriden-audax-rides/
LOCATION:Meriden Methodist Hall\, 113 Main Road\, Meriden\, cv77nh\, United Kingdom
CATEGORIES:Audax Rides
END:VEVENT
BEGIN:VEVENT
DTSTART;TZID=UTC:20260513T100000
DTEND;TZID=UTC:20260513T160000
DTSTAMP:20260419T124729
CREATED:20251228T202334Z
LAST-MODIFIED:20260104T162638Z
UID:4058-1778666400-1778688000@heartofenglandcyclingclub.co.uk
SUMMARY:Wednesday Ride-W-Droitwich-[Joan and Clive Cooper]
DESCRIPTION:Details to follow \nDownload \n 
URL:https://heartofenglandcyclingclub.co.uk/event/wednesday-ride-w-droitwich-joan-and-clive-cooper/
LOCATION:Red Lion – Earlswood\, The Red Lion Earlswood\, Solihull\, B94 6AQ\, United Kingdom
CATEGORIES:Wednesday Ride
END:VEVENT
BEGIN:VEVENT
DTSTART;TZID=UTC:20260513T100000
DTEND;TZID=UTC:20260513T130000
DTSTAMP:20260419T124729
CREATED:20260104T160114Z
LAST-MODIFIED:20260104T210419Z
UID:4094-1778666400-1778677200@heartofenglandcyclingclub.co.uk
SUMMARY:Café Ride-Gill Francis
DESCRIPTION:Coffee at Umberslade Farm
URL:https://heartofenglandcyclingclub.co.uk/event/cafe-ride/
CATEGORIES:Cafe Ride
END:VEVENT
BEGIN:VEVENT
DTSTART;TZID=UTC:20260513T093000
DTEND;TZID=UTC:20260513T170000
DTSTAMP:20260419T124729
CREATED:20260404T184539Z
LAST-MODIFIED:20260404T184539Z
UID:4358-1778664600-1778691600@heartofenglandcyclingclub.co.uk
SUMMARY:Further & Faster -???- (Ed Mathews)
DESCRIPTION:Details to follow…
URL:https://heartofenglandcyclingclub.co.uk/event/further-faster-ed-mathews-18/
LOCATION:Red Lion – Earlswood\, The Red Lion Earlswood\, Solihull\, B94 6AQ\, United Kingdom
CATEGORIES:Further & Faster Ride
END:VEVENT
BEGIN:VEVENT
DTSTART;TZID=UTC:20260510T100000
DTEND;TZID=UTC:20260510T131500
DTSTAMP:20260419T124729
CREATED:20260209T211623Z
LAST-MODIFIED:20260209T211624Z
UID:4215-1778407200-1778418900@heartofenglandcyclingclub.co.uk
SUMMARY:Sunday Casual/Social Ride - ??? (Gaye Key)
DESCRIPTION:Details to follow…
URL:https://heartofenglandcyclingclub.co.uk/event/sunday-casual-social-ride-gaye-key/
LOCATION:Red Lion – Earlswood\, The Red Lion Earlswood\, Solihull\, B94 6AQ\, United Kingdom
CATEGORIES:Sunday Casual/Social Ride
END:VEVENT
BEGIN:VEVENT
DTSTART;TZID=UTC:20260509T134500
DTEND;TZID=UTC:20260509T170000
DTSTAMP:20260419T124729
CREATED:20260404T184141Z
LAST-MODIFIED:20260404T184141Z
UID:4346-1778334300-1778346000@heartofenglandcyclingclub.co.uk
SUMMARY:Saturday Afternoon Ride (Mark Garlick)
DESCRIPTION:Afternoon ride\, destination agreed by those at the meet.
URL:https://heartofenglandcyclingclub.co.uk/event/saturday-afternoon-ride-mark-garlick-5/
LOCATION:Hickory’s Smokehouse – Earlswood\, Hickory's Smokehouse Earlswood\, Earlswood\, Warwickshire\, B94 5SL\, United Kingdom
CATEGORIES:Saturday Afternoon Ride
END:VEVENT
END:VCALENDAR